BEGIN:VCALENDAR
VERSION:2.0
PRODID:-//eventon.com NONSGML v1.0//EN
BEGIN:VEVENT
UID:69e5e59d4d6cc
DTSTAMP:20260420T083645
DTSTART:20231128T210000Z
DTEND:20231128T235000Z
LOCATION:The Milk Parlor 211 Draper Road NW
SUMMARY:PSE PALOOZA
DESCRIPTION: PSE PALOOOOZAAAA!! Come support Pi Sigma Epsilon with some good music from The Red Ferns!! Tuesday (TOMORROW!) the 28th! Doors at 9pm! RSVP for $10 by venmo @VT-PSE . $12 at the door! Show out and get down here!
END:VEVENT
END:VCALENDAR