BEGIN:VCALENDAR
VERSION:2.0
PRODID:-//eventon.com NONSGML v1.0//EN
BEGIN:VEVENT
UID:69e5e5e9da87b
DTSTAMP:20260420T083801
DTSTART:20250212T213000Z
DTEND:20250212T235900Z
LOCATION:
SUMMARY:Salsa Night
DESCRIPTION: Come enjoy free salsa lessons and open dance!
END:VEVENT
END:VCALENDAR